BEGIN:VCALENDAR
VERSION:2.0
PRODID:-//wp-events-plugin.com//7.2.3.1//EN
TZID:Australia/Brisbane
X-WR-TIMEZONE:Australia/Brisbane
BEGIN:VEVENT
UID:47@thegapasc.org.au
DTSTART;TZID=Australia/Brisbane:20260320T180000
DTEND;TZID=Australia/Brisbane:20260320T200000
DTSTAMP:20250507T055919Z
URL:https://thegapasc.org.au/events/club-night-38/
SUMMARY:Club Night
DESCRIPTION: - 200m Breaststroke
CATEGORIES:Club Night
LOCATION:The Gap Amateur Swimming Club Inc\, The Gap State School\, Waterwo
 rks Rd\, The Gap\, QLD\, Australia
X-APPLE-STRUCTURED-LOCATION;VALUE=URI;X-ADDRESS=The Gap State School\, Wate
 rworks Rd\, The Gap\, QLD\, Australia;X-APPLE-RADIUS=100;X-TITLE=The Gap A
 mateur Swimming Club Inc:geo:0,0
END:VEVENT
BEGIN:VTIMEZONE
TZID:Australia/Brisbane
X-LIC-LOCATION:Australia/Brisbane
BEGIN:STANDARD
DTSTART:20250320T180000
TZOFFSETFROM:+1000
TZOFFSETTO:+1000
TZNAME:AEST
END:STANDARD
END:VTIMEZONE
END:VCALENDAR