BEGIN:VCALENDAR
VERSION:2.0
PRODID:-//wp-events-plugin.com//7.2.3.1//EN
TZID:Australia/Brisbane
X-WR-TIMEZONE:Australia/Brisbane
BEGIN:VEVENT
UID:25@thegapasc.org.au
DTSTART;TZID=Australia/Brisbane:20250321T180000
DTEND;TZID=Australia/Brisbane:20250321T200000
DTSTAMP:20240724T002141Z
URL:https://thegapasc.org.au/events/club-night-19/
SUMMARY:Club Night
DESCRIPTION:- 800m Freestyle
CATEGORIES:Club Night
LOCATION:The Gap Amateur Swimming Club Inc\, The Gap State School\, Waterwo
 rks Rd\, The Gap\, QLD\, Australia
X-APPLE-STRUCTURED-LOCATION;VALUE=URI;X-ADDRESS=The Gap State School\, Wate
 rworks Rd\, The Gap\, QLD\, Australia;X-APPLE-RADIUS=100;X-TITLE=The Gap A
 mateur Swimming Club Inc:geo:0,0
END:VEVENT
BEGIN:VTIMEZONE
TZID:Australia/Brisbane
X-LIC-LOCATION:Australia/Brisbane
BEGIN:STANDARD
DTSTART:20240321T180000
TZOFFSETFROM:+1000
TZOFFSETTO:+1000
TZNAME:AEST
END:STANDARD
END:VTIMEZONE
END:VCALENDAR