BEGIN:VCALENDAR
VERSION:2.0
PRODID:-//wp-events-plugin.com//7.2.3.1//EN
TZID:Australia/Brisbane
X-WR-TIMEZONE:Australia/Brisbane
BEGIN:VEVENT
UID:4@thegapasc.org.au
DTSTART;TZID=Australia/Brisbane:20241109T130000
DTEND;TZID=Australia/Brisbane:20241109T130000
DTSTAMP:20240910T233921Z
URL:https://thegapasc.org.au/events/bronte-barratt-shield/
SUMMARY:Brontë Barratt Shield
DESCRIPTION:Brontë Barratt Shield Flyer\n\n
CATEGORIES:External Meet / Carnival
LOCATION:The Samford Pool\, The Samford Pool\, School Rd\, Samford\, Austra
 lia
X-APPLE-STRUCTURED-LOCATION;VALUE=URI;X-ADDRESS=The Samford Pool\, School R
 d\, Samford\, Australia;X-APPLE-RADIUS=100;X-TITLE=The Samford Pool:geo:0,
 0
END:VEVENT
BEGIN:VTIMEZONE
TZID:Australia/Brisbane
X-LIC-LOCATION:Australia/Brisbane
BEGIN:STANDARD
DTSTART:20231110T130000
TZOFFSETFROM:+1000
TZOFFSETTO:+1000
TZNAME:AEST
END:STANDARD
END:VTIMEZONE
END:VCALENDAR