BEGIN:VCALENDAR
VERSION:2.0
PRODID:-//wp-events-plugin.com//7.2.3.1//EN
TZID:Australia/Brisbane
X-WR-TIMEZONE:Australia/Brisbane
BEGIN:VEVENT
UID:3@thegapasc.org.au
DTSTART;TZID=Australia/Brisbane;VALUE=DATE:20231118
DTEND;TZID=Australia/Brisbane;VALUE=DATE:20231119
DTSTAMP:20231030T040854Z
URL:https://thegapasc.org.au/events/2023-woogaroo-lc-preparation-meet/
SUMMARY:2023 Woogaroo LC Preparation Meet
DESCRIPTION:
END:VEVENT
BEGIN:VTIMEZONE
TZID:Australia/Brisbane
X-LIC-LOCATION:Australia/Brisbane
BEGIN:STANDARD
DTSTART:20221118T000000
TZOFFSETFROM:+1000
TZOFFSETTO:+1000
TZNAME:AEST
END:STANDARD
END:VTIMEZONE
END:VCALENDAR